BEGIN:VCALENDAR
PRODID:-//eluceo/ical//2.0/EN
VERSION:2.0
CALSCALE:GREGORIAN
BEGIN:VEVENT
UID:aa00de9a79a5f60a14d2fe36cd0c9ee2
DTSTAMP:20260426T032830Z
SUMMARY:7-9p Storytelling Workshop-HA
DESCRIPTION:The Knoxville Jewish Alliance\nThe Knoxville Jewish Alliance Ca
 lendar\nhttps://jewishknoxville.org/calendar/7-9p-storytelling-workshop-ha
 -380058\n\nWrestling With Zionism: A Storytelling Workshop\n\nThrough writ
 ing\, pair sharing\, and other storytelling exercises we’ll be creating 
 a container to explore our relationship to Zionism\, how it has affected o
 ur lives and what questions we may have about it.\n \n         
    This workshop will be facilitated by Jacob Weinstein and Rachel Milfo
 rd as part of a theatre piece they are developing for this community\, whi
 ch will be generated from Knoxville community stories about wrestling...
DTSTART;TZID=America/New_York:20210609T190000
DTEND;TZID=America/New_York:20210609T210000
END:VEVENT
END:VCALENDAR
