BEGIN:VCALENDAR
PRODID:-//eluceo/ical//2.0/EN
VERSION:2.0
CALSCALE:GREGORIAN
BEGIN:VEVENT
UID:b8eabf9faf1610dfe099bdf8d04c9566
DTSTAMP:20260425T033328Z
SUMMARY:7:00 - 8:30 p.m. - Hadassah Board Meeting - AJCC Orwitz Room
DESCRIPTION:The Knoxville Jewish Alliance\nThe Knoxville Jewish Alliance Ca
 lendar\nhttps://jewishknoxville.org/calendar/700-830-pm--hadassah-board-me
 eting---ajcc-orwitz-room-209029\n\nHadassah Board Meeting
DTSTART;TZID=America/New_York:20161020T190000
DTEND;TZID=America/New_York:20161020T203000
END:VEVENT
END:VCALENDAR
