BEGIN:VCALENDAR
PRODID:-//eluceo/ical//2.0/EN
VERSION:2.0
CALSCALE:GREGORIAN
BEGIN:VEVENT
UID:d31cc839f94108498f15632491bb4a74
DTSTAMP:20260421T202426Z
SUMMARY:7:00 - 9:00 p.m. - AEPi Initiation - AJCC Orwitz Room
DESCRIPTION:The Knoxville Jewish Alliance\nThe Knoxville Jewish Alliance Ca
 lendar\nhttps://jewishknoxville.org/calendar/700-900-pm--aepi-initiation--
 -ajcc-orwitz-room-221568\n\nAEPi Initiation
DTSTART;TZID=America/New_York:20170222T190000
DTEND;TZID=America/New_York:20170222T210000
END:VEVENT
END:VCALENDAR
