BEGIN:VCALENDAR
PRODID:-//eluceo/ical//2.0/EN
VERSION:2.0
CALSCALE:GREGORIAN
BEGIN:VEVENT
UID:4963889499d122b1150b84d4c96edfd4
DTSTAMP:20260424T203714Z
SUMMARY:7:00 - 9:00 p.m. - Share the Dream Planning Session - AJCC Orwitz R
 oom
DESCRIPTION:The Knoxville Jewish Alliance\nThe Knoxville Jewish Alliance Ca
 lendar\nhttps://jewishknoxville.org/calendar/700-900-pm--share-the-dream-p
 lanning-session---ajcc-orwitz-room-283206\n\nShare the Dream Planning Sess
 ion
DTSTART;TZID=America/New_York:20180814T190000
DTEND;TZID=America/New_York:20180814T210000
END:VEVENT
END:VCALENDAR
