BEGIN:VCALENDAR
PRODID:-//eluceo/ical//2.0/EN
VERSION:2.0
CALSCALE:GREGORIAN
BEGIN:VEVENT
UID:3a65a54cc2193ae1e97348d19ec0d23d
DTSTAMP:20260420T082845Z
SUMMARY:7:00 - 9:00 p.m. - Sharing The Dream Committee - AJCC Orwitz Room
DESCRIPTION:The Knoxville Jewish Alliance\nThe Knoxville Jewish Alliance Ca
 lendar\nhttps://jewishknoxville.org/calendar/700-900-pm--sharing-the-dream
 -committee---ajcc-orwitz-room\n\nThe Sharing the Dream Committee will be h
 aving a meeting in the Orwitz room
DTSTART;TZID=America/New_York:20190106T190000
DTEND;TZID=America/New_York:20190106T210000
END:VEVENT
END:VCALENDAR
