BEGIN:VCALENDAR
PRODID:-//eluceo/ical//2.0/EN
VERSION:2.0
CALSCALE:GREGORIAN
BEGIN:VEVENT
UID:e0b6372ab07425bf2098c01d5f5a41ee
DTSTAMP:20260423T110440Z
SUMMARY:7:00 - 9:00 p.m. -Hadassah Board Meeting - Canceled
DESCRIPTION:The Knoxville Jewish Alliance\nThe Knoxville Jewish Alliance Ca
 lendar\nhttps://jewishknoxville.org/calendar/700-900-pm-hadassah-board-mee
 ting---canceled\n\nHADASSAH\n2019 Executive and General Board Meetings Has
  Been Canceled \n\n7:00 - 9:00 p.m. -Hadassah Board Meeting - AJCC Archiv
 es Room 213
DTSTART;TZID=America/New_York:20191016T190000
DTEND;TZID=America/New_York:20191016T210000
END:VEVENT
END:VCALENDAR
