BEGIN:VCALENDAR
PRODID:-//eluceo/ical//2.0/EN
VERSION:2.0
CALSCALE:GREGORIAN
BEGIN:VEVENT
UID:6c55116e49caa4b339b8889645095159
DTSTAMP:20260424T153610Z
SUMMARY:7:00-9:00 p.m. - KJDS Kid's Night Out (K-5)
DESCRIPTION:The Knoxville Jewish Alliance\nThe Knoxville Jewish Alliance Ca
 lendar\nhttps://jewishknoxville.org/calendar/700-900-pm-kjds-kids-night-ou
 t-k-5-201223\n\nKJDS Kid's Night Out
DTSTART;TZID=America/New_York:20161105T190000
DTEND;TZID=America/New_York:20161105T210000
END:VEVENT
END:VCALENDAR
