BEGIN:VCALENDAR
PRODID:-//eluceo/ical//2.0/EN
VERSION:2.0
CALSCALE:GREGORIAN
BEGIN:VEVENT
UID:c4513057a21f6b84c76868243c4805f2
DTSTAMP:20260420T134031Z
SUMMARY:7:00-9:00 p.m. - University Swim Club Smokin' Salmon Pool Party - A
 JCC Pool
DESCRIPTION:The Knoxville Jewish Alliance\nThe Knoxville Jewish Alliance Ca
 lendar\nhttps://jewishknoxville.org/calendar/700-900-pm-university-swim-cl
 ub-smokin-salmon-pool-party--ajcc-pool-199370\n\nUniversity Swim Club Smok
 in' Salmon Swim Team - Pool Party
DTSTART;TZID=America/New_York:20160903T190000
DTEND;TZID=America/New_York:20160903T210000
END:VEVENT
END:VCALENDAR
