BEGIN:VCALENDAR
PRODID:-//eluceo/ical//2.0/EN
VERSION:2.0
CALSCALE:GREGORIAN
BEGIN:VEVENT
UID:eb1970b1d8c190648510a82fa6ca2de3
DTSTAMP:20260424T153630Z
SUMMARY:7p  AJCC/KJDS Planning Meeting - AJCC Orwitz Room
DESCRIPTION:The Knoxville Jewish Alliance\nThe Knoxville Jewish Alliance Ca
 lendar\nhttps://jewishknoxville.org/calendar/700-pm-ajcckjds-planning-meet
 ing--ajcc-orwitz-room-179276\n\nAJCC/KJDS Planning Meeting
DTSTART;TZID=America/New_York:20160127T190000
DTEND;TZID=America/New_York:20160127T210000
END:VEVENT
END:VCALENDAR
