BEGIN:VCALENDAR
PRODID:-//eluceo/ical//2.0/EN
VERSION:2.0
CALSCALE:GREGORIAN
BEGIN:VEVENT
UID:98ea48b440a65856c9cd478217b80b20
DTSTAMP:20260424T084940Z
SUMMARY:7:00 p.m. - Campaign Call Night - AJCC  Orwitz Rm 217
DESCRIPTION:The Knoxville Jewish Alliance\nThe Knoxville Jewish Alliance Ca
 lendar\nhttps://jewishknoxville.org/calendar/700-pm-campaign-call-night--a
 jcc--orwitz-rm-217-321331\n\nCampaign Call Night \n\n7:00 p.m. \n\n AJCC
   Orwitz Rm 217
DTSTART;TZID=America/New_York:20190912T190000
DTEND;TZID=America/New_York:20190912T200000
END:VEVENT
END:VCALENDAR
