BEGIN:VCALENDAR
PRODID:-//eluceo/ical//2.0/EN
VERSION:2.0
CALSCALE:GREGORIAN
BEGIN:VEVENT
UID:288f4473832a66e44114a64b8c348464
DTSTAMP:20260426T033053Z
SUMMARY:7:00 p.m. - GKAISA Meeting - AJCC Orwitz Room
DESCRIPTION:The Knoxville Jewish Alliance\nThe Knoxville Jewish Alliance Ca
 lendar\nhttps://jewishknoxville.org/calendar/700-pm-gkaisa-meeting--ajcc-o
 rwitz-room20183-261890\n\nGKAISA Meeting
DTSTART;TZID=America/New_York:20180326T190000
DTEND;TZID=America/New_York:20180326T210000
END:VEVENT
END:VCALENDAR
