BEGIN:VCALENDAR
PRODID:-//eluceo/ical//2.0/EN
VERSION:2.0
CALSCALE:GREGORIAN
BEGIN:VEVENT
UID:da49effb3fa009d11154aa4fea60d14d
DTSTAMP:20260423T082644Z
SUMMARY:7:00 p.m. - GKAISA Meeting - AJCC Orwitz Room
DESCRIPTION:The Knoxville Jewish Alliance\nThe Knoxville Jewish Alliance Ca
 lendar\nhttps://jewishknoxville.org/calendar/700-pm-gkaisa-meeting--ajcc-o
 rwitz-room20185-261891\n\nGKAISA Meeting
DTSTART;TZID=America/New_York:20180306T190000
DTEND;TZID=America/New_York:20180306T210000
END:VEVENT
END:VCALENDAR
