BEGIN:VCALENDAR
PRODID:-//eluceo/ical//2.0/EN
VERSION:2.0
CALSCALE:GREGORIAN
BEGIN:VEVENT
UID:79bf13e0173c63123e88b4b5860477ed
DTSTAMP:20260425T030025Z
SUMMARY:7p - Hadassah Board Meeting - Zoom
DESCRIPTION:The Knoxville Jewish Alliance\nThe Knoxville Jewish Alliance Ca
 lendar\nhttps://jewishknoxville.org/calendar/700-pm-hadassah-bd-meeting\n\
 nHadassah Board Meeting
DTSTART;TZID=America/New_York:20210421T190000
DTEND;TZID=America/New_York:20210421T200000
END:VEVENT
END:VCALENDAR
