BEGIN:VCALENDAR
PRODID:-//eluceo/ical//2.0/EN
VERSION:2.0
CALSCALE:GREGORIAN
BEGIN:VEVENT
UID:6b0212709a69574809b07feba8066622
DTSTAMP:20260423T041336Z
SUMMARY:7:00 PM - Hadassah Board Meeting - AJCC
DESCRIPTION:The Knoxville Jewish Alliance\nThe Knoxville Jewish Alliance Ca
 lendar\nhttps://jewishknoxville.org/calendar/700-pm-hadassah-board-meeting
 --ajcc-august\n\nHadassah Bd meeting 
DTSTART;TZID=America/New_York:20220817T190000
DTEND;TZID=America/New_York:20220817T200000
END:VEVENT
END:VCALENDAR
