BEGIN:VCALENDAR
PRODID:-//eluceo/ical//2.0/EN
VERSION:2.0
CALSCALE:GREGORIAN
BEGIN:VEVENT
UID:ecabb114d6a4ade47315e51a40dfc5c2
DTSTAMP:20260421T094151Z
SUMMARY:7:00 PM - Hadassah Board Meeting - AJCC
DESCRIPTION:The Knoxville Jewish Alliance\nThe Knoxville Jewish Alliance Ca
 lendar\nhttps://jewishknoxville.org/calendar/700-pm-hadassah-board-meeting
 --ajcc-july\n\nHadassah Bd meeting 
DTSTART;TZID=America/New_York:20220720T190000
DTEND;TZID=America/New_York:20220720T200000
END:VEVENT
END:VCALENDAR
