BEGIN:VCALENDAR
PRODID:-//eluceo/ical//2.0/EN
VERSION:2.0
CALSCALE:GREGORIAN
BEGIN:VEVENT
UID:8f90643a954290a81540e066534c8b15
DTSTAMP:20260421T150223Z
SUMMARY:7:00 PM - Hadassah Board Meeting - AJCC
DESCRIPTION:The Knoxville Jewish Alliance\nThe Knoxville Jewish Alliance Ca
 lendar\nhttps://jewishknoxville.org/calendar/700-pm-hadassah-board-meeting
 --ajcc-june\n\nHadassah Bd meeting 
DTSTART;TZID=America/New_York:20220615T190000
DTEND;TZID=America/New_York:20220615T200000
END:VEVENT
END:VCALENDAR
