BEGIN:VCALENDAR
PRODID:-//eluceo/ical//2.0/EN
VERSION:2.0
CALSCALE:GREGORIAN
BEGIN:VEVENT
UID:1e6b77e4a009394952c7c1a508804a4d
DTSTAMP:20260422T042241Z
SUMMARY:7:00 p.m. - Hadassah Board Meeting - AJCC Orwitz Room
DESCRIPTION:The Knoxville Jewish Alliance\nThe Knoxville Jewish Alliance Ca
 lendar\nhttps://jewishknoxville.org/calendar/700-pm-hadassah-board-meeting
 --ajcc-orwitz-room4-215105\n\nHadassah Board Meeting
DTSTART;TZID=America/New_York:20170110T190000
DTEND;TZID=America/New_York:20170110T210000
END:VEVENT
END:VCALENDAR
