BEGIN:VCALENDAR
PRODID:-//eluceo/ical//2.0/EN
VERSION:2.0
CALSCALE:GREGORIAN
BEGIN:VEVENT
UID:7bb39112971eba32b17fd6df99179b55
DTSTAMP:20260425T174451Z
SUMMARY:7:00 p.m. - Hadassah Board Meeting - AJCC Orwitz Room
DESCRIPTION:The Knoxville Jewish Alliance\nThe Knoxville Jewish Alliance Ca
 lendar\nhttps://jewishknoxville.org/calendar/700-pm-hadassah-board-meeting
 --ajcc-orwitz-roomDec-254578\n\nHadassah Board Meeting
DTSTART;TZID=America/New_York:20171220T190000
DTEND;TZID=America/New_York:20171220T210000
END:VEVENT
END:VCALENDAR
