BEGIN:VCALENDAR
PRODID:-//eluceo/ical//2.0/EN
VERSION:2.0
CALSCALE:GREGORIAN
BEGIN:VEVENT
UID:c4998c4a3fd90dfd3faef814a2acfaf8
DTSTAMP:20260424T072917Z
SUMMARY:7:00 p.m. - Hadassah Board Meeting - AJCC Archives Room
DESCRIPTION:The Knoxville Jewish Alliance\nThe Knoxville Jewish Alliance Ca
 lendar\nhttps://jewishknoxville.org/calendar/700-pm-hadassah2-board-meetin
 g--ajcc-orwitz-room-211585\n\nHadassah Board Meeting
DTSTART;TZID=America/New_York:20161206T190000
DTEND;TZID=America/New_York:20161206T210000
END:VEVENT
END:VCALENDAR
