BEGIN:VCALENDAR
PRODID:-//eluceo/ical//2.0/EN
VERSION:2.0
CALSCALE:GREGORIAN
BEGIN:VEVENT
UID:0453dc7d188a70593d73baaaf267adc3
DTSTAMP:20260423T053047Z
SUMMARY:7:00 p.m. -Immigration Policy Forum - AJCC Orwitz Room
DESCRIPTION:The Knoxville Jewish Alliance\nThe Knoxville Jewish Alliance Ca
 lendar\nhttps://jewishknoxville.org/calendar/700-pm-immigration-and-curren
 t-events--ajcc-orwitz-room-214443\n\nImmigration Policy Forum:  A Communi
 ty Response to Injustice
DTSTART;TZID=America/New_York:20170116T190000
DTEND;TZID=America/New_York:20170116T200000
END:VEVENT
END:VCALENDAR
