BEGIN:VCALENDAR
PRODID:-//eluceo/ical//2.0/EN
VERSION:2.0
CALSCALE:GREGORIAN
BEGIN:VEVENT
UID:acdb6e0a22529d2efdcdc4fca8ced83c
DTSTAMP:20260422T194808Z
SUMMARY:7:00 p.m. - JCOR Monthly Jewish Film Series:  "Remember" - JCOR
DESCRIPTION:The Knoxville Jewish Alliance\nThe Knoxville Jewish Alliance Ca
 lendar\nhttps://jewishknoxville.org/calendar/700-pm-jcor-monthly-jewish-fi
 lm-series-remember---jcor-211697\n\n“Remember” USA\, 2016\, Rated R\, 
 1hr 35m As lifelong friends Zev and Max move into their last years\, they 
 make a solemn pact to hunt down and take revenge on the Nazi commander who
  was responsible for slaughtering their families during World War II. Cast
 : Christopher Plummer\, Martin Landau\, Bruno Ganz.\n\n \n\nJewish Congre
 gation of Oak Ridge\n\n101 W Madison Ln\n\nOak Ridge\, TN 37830\n\n \n\nC
 ontact:\n\nAlbert Good\n\n            al_good@bellsouth.net
DTSTART;TZID=America/New_York:20161105T190000
DTEND;TZID=America/New_York:20161105T220000
END:VEVENT
END:VCALENDAR
