BEGIN:VCALENDAR
PRODID:-//eluceo/ical//2.0/EN
VERSION:2.0
CALSCALE:GREGORIAN
BEGIN:VEVENT
UID:118a2b7e44c6194bd2b509237bb79f5a
DTSTAMP:20260421T150304Z
SUMMARY:7:00 p.m. - KJA Shabbat - TBE
DESCRIPTION:The Knoxville Jewish Alliance\nThe Knoxville Jewish Alliance Ca
 lendar\nhttps://jewishknoxville.org/calendar/700-pm-kja-shabbat--tbe-27592
 8\n\nKJA Shabbat
DTSTART;TZID=America/New_York:20190208T190000
DTEND;TZID=America/New_York:20190208T210000
END:VEVENT
END:VCALENDAR
