BEGIN:VCALENDAR
PRODID:-//eluceo/ical//2.0/EN
VERSION:2.0
CALSCALE:GREGORIAN
BEGIN:VEVENT
UID:76773ed8fb83f84a319f3e5c90e18606
DTSTAMP:20260424T035221Z
SUMMARY:7:00 p.m. - Share Your Dream Community Planning Meeting - AJCC Orwi
 tz Room
DESCRIPTION:The Knoxville Jewish Alliance\nThe Knoxville Jewish Alliance Ca
 lendar\nhttps://jewishknoxville.org/calendar/700-pm-share-the-dream-commun
 ity-planning-meeting--ajcc-orwitz-room-226066\n\nShare Your Dream\n\nComm
 unity Planning Meeting
DTSTART;TZID=America/New_York:20170427T190000
DTEND;TZID=America/New_York:20170427T203000
END:VEVENT
END:VCALENDAR
