BEGIN:VCALENDAR
PRODID:-//eluceo/ical//2.0/EN
VERSION:2.0
CALSCALE:GREGORIAN
BEGIN:VEVENT
UID:cb63ded2f64a9b2fafd6d76576b27616
DTSTAMP:20260423T215843Z
SUMMARY:7:00a-8:30a - Purim Service - HA
DESCRIPTION:The Knoxville Jewish Alliance\nThe Knoxville Jewish Alliance Ca
 lendar\nhttps://jewishknoxville.org/calendar/700a-830a---purim-service---h
 a-1518112405\n\nAll are welcome to join us for a traditional reading of th
 e Megillah and Purim service\, followed by Kiddush and Rabbi's Seudah.
DTSTART;TZID=America/New_York:20180301T070000
DTEND;TZID=America/New_York:20180301T083000
END:VEVENT
END:VCALENDAR
