BEGIN:VCALENDAR
PRODID:-//eluceo/ical//2.0/EN
VERSION:2.0
CALSCALE:GREGORIAN
BEGIN:VEVENT
UID:97ccbb1834834baa97b8f16ce48c5973
DTSTAMP:20260425T151516Z
SUMMARY:7:00a Sukkot First Day-HA
DESCRIPTION:The Knoxville Jewish Alliance\nThe Knoxville Jewish Alliance Ca
 lendar\nhttps://jewishknoxville.org/calendar/700a-kukkot-first-day-ha-2823
 16\n\nSukkot First Day
DTSTART;TZID=America/New_York:20180924T070000
DTEND;TZID=America/New_York:20180924T080000
END:VEVENT
END:VCALENDAR
