BEGIN:VCALENDAR
PRODID:-//eluceo/ical//2.0/EN
VERSION:2.0
CALSCALE:GREGORIAN
BEGIN:VEVENT
UID:ba1943831b6d65e603de01a63275ffa5
DTSTAMP:20260422T210528Z
SUMMARY:7:00p-8:00p - A Page of Talmud -HA
DESCRIPTION:The Knoxville Jewish Alliance\nThe Knoxville Jewish Alliance Ca
 lendar\nhttps://jewishknoxville.org/calendar/700p-800p---a-page-of-talmud-
 -ha-1518112139\n\nGather to read a page of Talumd (in English) together. 
  This is a group activity rather than an instructor based course.  Team l
 eaders are Raphe Panitz and Jack Love.  Class fee is $25\; there is no fe
 e for Heska Amuna members.  
DTSTART;TZID=America/New_York:20180214T190000
DTEND;TZID=America/New_York:20180214T200000
END:VEVENT
END:VCALENDAR
