BEGIN:VCALENDAR
PRODID:-//eluceo/ical//2.0/EN
VERSION:2.0
CALSCALE:GREGORIAN
BEGIN:VEVENT
UID:1afd318f5f5eecad44eb5c2c5a8344c3
DTSTAMP:20260423T122416Z
SUMMARY:7:00pm - Hadassah Meet-Up Location TBD
DESCRIPTION:The Knoxville Jewish Alliance\nThe Knoxville Jewish Alliance Ca
 lendar\nhttps://jewishknoxville.org/calendar/700pm-hadassah-meet-up-locati
 on-to-be-determined\n\nMeet-up to discuss Share the Dream and what Hadassa
 h wants to focus on.
DTSTART;TZID=America/New_York:20201024T190000
DTEND;TZID=America/New_York:20201024T200000
END:VEVENT
END:VCALENDAR
