BEGIN:VCALENDAR
PRODID:-//eluceo/ical//2.0/EN
VERSION:2.0
CALSCALE:GREGORIAN
BEGIN:VEVENT
UID:8fcd75b8238d992425a9487988497cd0
DTSTAMP:20260425T033358Z
SUMMARY:7:05 p.m. - Jewish Heritage Night @ the Ice Bears
DESCRIPTION:The Knoxville Jewish Alliance\nThe Knoxville Jewish Alliance Ca
 lendar\nhttps://jewishknoxville.org/calendar/705-pm-jewish-heritage-night-
 the-ice-bears---215748\n\nChabad of Knoxville and the Knoxville Jewish All
 iance present Jewish Heritage Night at the Knoxville Ice Bears\, Tuesday\,
  December 27. Game starts at 7:05 p.m. The event will feature a menorah li
 ghting on the ice after the first period and hot latkes at the Southeast C
 orner. Participants get a free t-shirt.\n\n \n\nBuy group tickets for $14
 .00 at https://buy.knoxvilletickets.com/promo/online/article/knoxvilleiceb
 ears and use promo code "Chanukah"\n\n 
DTSTART;TZID=America/New_York:20161227T190500
DTEND;TZID=America/New_York:20161227T230000
END:VEVENT
END:VCALENDAR
