BEGIN:VCALENDAR
PRODID:-//eluceo/ical//2.0/EN
VERSION:2.0
CALSCALE:GREGORIAN
BEGIN:VEVENT
UID:b85795cf489b29b26c67af22d5b6b439
DTSTAMP:20260423T053037Z
SUMMARY:7:15 p.m. - KJA Board Meeting - AJCC  Orwitz Rm 217
DESCRIPTION:The Knoxville Jewish Alliance\nThe Knoxville Jewish Alliance Ca
 lendar\nhttps://jewishknoxville.org/calendar/715-pm-kja-board-meeting--ajc
 c--orwitz-rm-217-342808\n\n7:15 p.m. - KJA Board Meeting - AJCC  Orwitz 
 Room 217
DTSTART;TZID=America/New_York:20201005T191500
DTEND;TZID=America/New_York:20201005T203000
END:VEVENT
END:VCALENDAR
