BEGIN:VCALENDAR
PRODID:-//eluceo/ical//2.0/EN
VERSION:2.0
CALSCALE:GREGORIAN
BEGIN:VEVENT
UID:afe1cfb12394e5aec7b0b61f4ae3c7a8
DTSTAMP:20260423T041432Z
SUMMARY:7:15 p.m. - KJA Board Meeting - AJCC Orwitz Room
DESCRIPTION:The Knoxville Jewish Alliance\nThe Knoxville Jewish Alliance Ca
 lendar\nhttps://jewishknoxville.org/calendar/715-pm-kja-board-meeting--ajc
 c-orwitz-room5-215436\n\nKJA Board Meeting
DTSTART;TZID=America/New_York:20171002T191500
DTEND;TZID=America/New_York:20171002T210000
END:VEVENT
END:VCALENDAR
