BEGIN:VCALENDAR
PRODID:-//eluceo/ical//2.0/EN
VERSION:2.0
CALSCALE:GREGORIAN
BEGIN:VEVENT
UID:2b3ae87e0f8beace6a0816e1b1c7d3b2
DTSTAMP:20260425T233638Z
SUMMARY:7:15 p.m. - KJA Executive Committee Meeting -  AJCC  Orwitz Room 21
 7
DESCRIPTION:The Knoxville Jewish Alliance\nThe Knoxville Jewish Alliance Ca
 lendar\nhttps://jewishknoxville.org/calendar/715-pm-kja-executive-committe
 e-meeting---ajcc--orwitz-room-217-342795\n\n7:15 p.m. - KJA Board Meeting
  - AJCC  Orwitz Room 217
DTSTART;TZID=America/New_York:20200203T191500
DTEND;TZID=America/New_York:20200203T203000
END:VEVENT
END:VCALENDAR
