BEGIN:VCALENDAR
PRODID:-//eluceo/ical//2.0/EN
VERSION:2.0
CALSCALE:GREGORIAN
BEGIN:VEVENT
UID:ee9fc21754f02dc5f445dca2dcc51395
DTSTAMP:20260422T072711Z
SUMMARY:7:15p-8:15p - Judaism 201 -HA
DESCRIPTION:The Knoxville Jewish Alliance\nThe Knoxville Jewish Alliance Ca
 lendar\nhttps://jewishknoxville.org/calendar/715p-815p---judaism-201--ha-1
 518110922\n\n1st & 3rd Sunday every month.  Train to lead worship\, read 
 and chant Torah and Haftarah\, with the option of celebrating an Adult Ba
 t Mitzvah or Bar Mitzvah.
DTSTART;TZID=America/New_York:20180218T071500
DTEND;TZID=America/New_York:20180218T201500
END:VEVENT
END:VCALENDAR
