BEGIN:VCALENDAR
PRODID:-//eluceo/ical//2.0/EN
VERSION:2.0
CALSCALE:GREGORIAN
BEGIN:VEVENT
UID:a54045575b8ce2e04e8451db371e3f1c
DTSTAMP:20260422T072155Z
SUMMARY:7:15p-9:00p - HA - Rabbi and Religious Services Meeting
DESCRIPTION:The Knoxville Jewish Alliance\nThe Knoxville Jewish Alliance Ca
 lendar\nhttps://jewishknoxville.org/calendar/715p-900p---ha---rabbi-and-re
 ligious-services-meeting-1513888547\n\nR&RS Committee meets every 3rd Thur
 sday of each month.
DTSTART;TZID=America/New_York:20180118T191500
DTEND;TZID=America/New_York:20180118T211500
END:VEVENT
END:VCALENDAR
