BEGIN:VCALENDAR
PRODID:-//eluceo/ical//2.0/EN
VERSION:2.0
CALSCALE:GREGORIAN
BEGIN:VEVENT
UID:237c34c53159abc2bc67b40c41492711
DTSTAMP:20260422T041444Z
SUMMARY:7:15p Bible D&D-HA
DESCRIPTION:The Knoxville Jewish Alliance\nThe Knoxville Jewish Alliance Ca
 lendar\nhttps://jewishknoxville.org/calendar/715p-bible-dd-ha\n\n7:15p Bi
 ble D&D-HA
DTSTART;TZID=America/New_York:20160508T191500
DTEND;TZID=America/New_York:20160508T210000
END:VEVENT
END:VCALENDAR
