BEGIN:VCALENDAR
PRODID:-//eluceo/ical//2.0/EN
VERSION:2.0
CALSCALE:GREGORIAN
BEGIN:VEVENT
UID:e4970ede842ca9532ff23d272610eaae
DTSTAMP:20260423T065318Z
SUMMARY:7:15p Bible D&D-HA
DESCRIPTION:The Knoxville Jewish Alliance\nThe Knoxville Jewish Alliance Ca
 lendar\nhttps://jewishknoxville.org/calendar/715p-bible-dd-ha626\n\nBiblic
 al Dungeons & Dragons led by Rabbi Ferency
DTSTART;TZID=America/New_York:20160626T191500
DTEND;TZID=America/New_York:20160626T203000
END:VEVENT
END:VCALENDAR
