BEGIN:VCALENDAR
PRODID:-//eluceo/ical//2.0/EN
VERSION:2.0
CALSCALE:GREGORIAN
BEGIN:VEVENT
UID:a6cf66e040e5dd5e15772c23d5e082bc
DTSTAMP:20260422T194155Z
SUMMARY:7:15p Judaism 201 Class - HA
DESCRIPTION:The Knoxville Jewish Alliance\nThe Knoxville Jewish Alliance Ca
 lendar\nhttps://jewishknoxville.org/calendar/715p-judaism-201-class-ha6-27
 3281\n\n1st & 3rd Sunday every month.  Train to lead worship\, read and c
 hant Torah and Haftarah\, with the option of celebrating an Adult Bat Mi
 tzvah or Bar Mitzvah.
DTSTART;TZID=America/New_York:20180701T191500
DTEND;TZID=America/New_York:20180701T201500
END:VEVENT
END:VCALENDAR
