BEGIN:VCALENDAR
PRODID:-//eluceo/ical//2.0/EN
VERSION:2.0
CALSCALE:GREGORIAN
BEGIN:VEVENT
UID:3f200874c0b30af12d5c09cb87b46b87
DTSTAMP:20260423T120008Z
SUMMARY:7:15p Judaism 301 Class-HA
DESCRIPTION:The Knoxville Jewish Alliance\nThe Knoxville Jewish Alliance Ca
 lendar\nhttps://jewishknoxville.org/calendar/715p-judaism-301-class-ha-267
 053\n\nRead Hebrew texts with English translation\, including Mishnah (1st
  century precepts)\, Midrash (rabbinic "fan-fiction")\, Sefer HaChinuch a
 nd Mussar (ethical literature of the medieval and early modern ages). \n\
 nEveryone welcome\, call 865-522-0701 for more information.
DTSTART;TZID=America/New_York:20180415T191500
DTEND;TZID=America/New_York:20180415T203000
END:VEVENT
END:VCALENDAR
