BEGIN:VCALENDAR
PRODID:-//eluceo/ical//2.0/EN
VERSION:2.0
CALSCALE:GREGORIAN
BEGIN:VEVENT
UID:72095dcc8abe1a639920f3eee9e8810b
DTSTAMP:20260423T140624Z
SUMMARY:7:15p Shabbat Hootenanny Cookout-HA
DESCRIPTION:The Knoxville Jewish Alliance\nThe Knoxville Jewish Alliance Ca
 lendar\nhttps://jewishknoxville.org/calendar/715p-shabbat-hootenanny-cooko
 ut-ha-272006\n\nJoin us for the best Shabbat cookout of the year!
DTSTART;TZID=America/New_York:20180601T191500
DTEND;TZID=America/New_York:20180601T200000
END:VEVENT
END:VCALENDAR
