BEGIN:VCALENDAR
PRODID:-//eluceo/ical//2.0/EN
VERSION:2.0
CALSCALE:GREGORIAN
BEGIN:VEVENT
UID:0ccf2aaf82239773c04c828cc9e081d2
DTSTAMP:20260426T021540Z
SUMMARY:7:30 - 9:30 p.m. - Israeli Dancing -  CANCELED
DESCRIPTION:The Knoxville Jewish Alliance\nThe Knoxville Jewish Alliance Ca
 lendar\nhttps://jewishknoxville.org/calendar/730-930-pm--israeli-dancing--
 --canceled-333329\n\nIsraeli Dancing\n\nCanceled\n\n 
DTSTART;TZID=America/New_York:20191107T193000
DTEND;TZID=America/New_York:20191107T213000
END:VEVENT
END:VCALENDAR
