BEGIN:VCALENDAR
PRODID:-//eluceo/ical//2.0/EN
VERSION:2.0
CALSCALE:GREGORIAN
BEGIN:VEVENT
UID:f1e34f2bdbe036afd02a6c00cc56f533
DTSTAMP:20260425T033615Z
SUMMARY:7:30 - 9:30 p.m. - Israeli Dancing -  Moved to the Orwitz Room 217
DESCRIPTION:The Knoxville Jewish Alliance\nThe Knoxville Jewish Alliance Ca
 lendar\nhttps://jewishknoxville.org/calendar/730-930-pm--israeli-dancing--
 --moved-to-the-orwitz-room-217-330389\n\nIsraeli Dancing  Has Been Moved 
 to the Orwitz Room 217\n\nOpen to All\n\n7:30 - 9:30 p.m. - Israeli Danci
 ng - AJCC Orwitz Room 217
DTSTART;TZID=America/New_York:20191003T193000
DTEND;TZID=America/New_York:20191003T213000
END:VEVENT
END:VCALENDAR
