BEGIN:VCALENDAR
PRODID:-//eluceo/ical//2.0/EN
VERSION:2.0
CALSCALE:GREGORIAN
BEGIN:VEVENT
UID:df85abf4908a0ec2a4521f60f0d48c8a
DTSTAMP:20260422T222846Z
SUMMARY:7:30 - 9:30 p.m. - Israeli Dancing - AJCC Caller Auditorium
DESCRIPTION:The Knoxville Jewish Alliance\nThe Knoxville Jewish Alliance Ca
 lendar\nhttps://jewishknoxville.org/calendar/730-930-pm--israeli-dancing--
 -ajcc-caller-auditorium2018-282476\n\nIsraeli Dancing\n\nOpen to All
DTSTART;TZID=America/New_York:20180816T193000
DTEND;TZID=America/New_York:20180816T213000
END:VEVENT
END:VCALENDAR
