BEGIN:VCALENDAR
PRODID:-//eluceo/ical//2.0/EN
VERSION:2.0
CALSCALE:GREGORIAN
BEGIN:VEVENT
UID:7624b5da143614683a1c6e19036815d4
DTSTAMP:20260425T152311Z
SUMMARY:Yom Kippur Holiday - AJCC Campus Closed
DESCRIPTION:The Knoxville Jewish Alliance\nThe Knoxville Jewish Alliance Ca
 lendar\nhttps://jewishknoxville.org/calendar/730-am-1030-pm--yom-kippur-ho
 liday-campus-closed-332208\n\nYom Kippur Holiday - AJCC Campus Closed 
DTSTART;TZID=America/New_York:20200928T073000
DTEND;TZID=America/New_York:20200928T223000
END:VEVENT
END:VCALENDAR
