BEGIN:VCALENDAR
PRODID:-//eluceo/ical//2.0/EN
VERSION:2.0
CALSCALE:GREGORIAN
BEGIN:VEVENT
UID:3e302845db8934e5d9ca645ab47d46b9
DTSTAMP:20260422T210609Z
SUMMARY:7:30 a.m. -Arnstein Jewish Community Center Closed for Sukkot
DESCRIPTION:The Knoxville Jewish Alliance\nThe Knoxville Jewish Alliance Ca
 lendar\nhttps://jewishknoxville.org/calendar/730-am-arnstein-jewish-commun
 ity--center-closed-for-sukkot-331908\n\nArnstein Jewish Community Center C
 losed for Sukkot
DTSTART;TZID=America/New_York:20191015T073000
DTEND;TZID=America/New_York:20191015T223000
END:VEVENT
END:VCALENDAR
