BEGIN:VCALENDAR
PRODID:-//eluceo/ical//2.0/EN
VERSION:2.0
CALSCALE:GREGORIAN
BEGIN:VEVENT
UID:0d17c4b901019da875d3bff18de99d4a
DTSTAMP:20260422T072113Z
SUMMARY:7:30 a.m. - Arnstein Jewish Community Center Closed for  Labor Day
DESCRIPTION:The Knoxville Jewish Alliance\nThe Knoxville Jewish Alliance Ca
 lendar\nhttps://jewishknoxville.org/calendar/730-am-arnstein-jewish-commun
 ity-center-closed-for-labor-day-331914\n\nArnstein Jewish Community Center
  Closed for  Labor Day
DTSTART;TZID=America/New_York:20190902T073000
DTEND;TZID=America/New_York:20190902T223000
END:VEVENT
END:VCALENDAR
