BEGIN:VCALENDAR
PRODID:-//eluceo/ical//2.0/EN
VERSION:2.0
CALSCALE:GREGORIAN
BEGIN:VEVENT
UID:57faeadd269ffec6d81cd7e19413ed4b
DTSTAMP:20260425T111501Z
SUMMARY:7:30 a.m. -Arnstein Jewish Community Center Closed for Shemini Atze
 ret
DESCRIPTION:The Knoxville Jewish Alliance\nThe Knoxville Jewish Alliance Ca
 lendar\nhttps://jewishknoxville.org/calendar/730-am-arnstein-jewish-commun
 ity-center-closed-for-shemini-atzeret-331905\n\nArnstein Jewish Community 
 Center Closed for Shemini Atzeret
DTSTART;TZID=America/New_York:20191021T073000
DTEND;TZID=America/New_York:20191021T223000
END:VEVENT
END:VCALENDAR
