BEGIN:VCALENDAR
PRODID:-//eluceo/ical//2.0/EN
VERSION:2.0
CALSCALE:GREGORIAN
BEGIN:VEVENT
UID:bb85deacf3bde7a660fa0ca9d7b13506
DTSTAMP:20260419T231854Z
SUMMARY:7:30 a.m. -Arnstein Jewish Community Center Closed for Sukkot
DESCRIPTION:The Knoxville Jewish Alliance\nThe Knoxville Jewish Alliance Ca
 lendar\nhttps://jewishknoxville.org/calendar/730-am-arnstein-jewish-commun
 ity-center-closed-for-sukkot-331907\n\nArnstein Jewish Community Center Cl
 osed for Sukkot
DTSTART;TZID=America/New_York:20191014T073000
DTEND;TZID=America/New_York:20191014T223000
END:VEVENT
END:VCALENDAR
