BEGIN:VCALENDAR
PRODID:-//eluceo/ical//2.0/EN
VERSION:2.0
CALSCALE:GREGORIAN
BEGIN:VEVENT
UID:e6f5ba3e30fd3f2d532162b2924608c2
DTSTAMP:20260419T122508Z
SUMMARY:7:30 a.m. - Arnstein Jewish Community Center Closed for  Yom Kippur
DESCRIPTION:The Knoxville Jewish Alliance\nThe Knoxville Jewish Alliance Ca
 lendar\nhttps://jewishknoxville.org/calendar/730-am-arnstein-jewish-commun
 ity-center-closed-for-yom-kippur-331910\n\nArnstein Jewish Community Cente
 r Closed for  Yom Kippur
DTSTART;TZID=America/New_York:20191009T073000
DTEND;TZID=America/New_York:20191009T223000
END:VEVENT
END:VCALENDAR
