BEGIN:VCALENDAR
PRODID:-//eluceo/ical//2.0/EN
VERSION:2.0
CALSCALE:GREGORIAN
BEGIN:VEVENT
UID:8eaac52603d26cf25cb8bf52bd1768e7
DTSTAMP:20260425T191607Z
SUMMARY:7:30 p.m. - 10:00 p.m. - AEPi House Dedication - Fraternity Park UT
 K
DESCRIPTION:The Knoxville Jewish Alliance\nThe Knoxville Jewish Alliance Ca
 lendar\nhttps://jewishknoxville.org/calendar/730-pm-1000-pm--aepi-house-de
 dication---fraternity-park-utk-243122\n\nAEPi House Dedication\n\nAEPi Hou
 se\, Fraternity Park UTK\n\nEntire Jewish Community is invited\n\nRSVP Ben
 ji Ballin bballin@vols.utk.edu
DTSTART;TZID=America/New_York:20170819T193000
DTEND;TZID=America/New_York:20170819T220000
END:VEVENT
END:VCALENDAR
