BEGIN:VCALENDAR
PRODID:-//eluceo/ical//2.0/EN
VERSION:2.0
CALSCALE:GREGORIAN
BEGIN:VEVENT
UID:2557f9e826d100f768c0f898a6a7e1bb
DTSTAMP:20260421T234334Z
SUMMARY:7:30 PM - Hadassah Book Club - Zoom
DESCRIPTION:The Knoxville Jewish Alliance\nThe Knoxville Jewish Alliance Ca
 lendar\nhttps://jewishknoxville.org/calendar/730-pm-hadassah-book-club--zo
 om\n\nHadassah Book Club 
DTSTART;TZID=America/New_York:20230117T193000
DTEND;TZID=America/New_York:20230117T203000
END:VEVENT
END:VCALENDAR
