BEGIN:VCALENDAR
PRODID:-//eluceo/ical//2.0/EN
VERSION:2.0
CALSCALE:GREGORIAN
BEGIN:VEVENT
UID:67ceb5cd37f2cb168b3b3c1aaa1e0934
DTSTAMP:20260424T152822Z
SUMMARY:7:30 pm - Hadassah Book Club
DESCRIPTION:The Knoxville Jewish Alliance\nThe Knoxville Jewish Alliance Ca
 lendar\nhttps://jewishknoxville.org/calendar/730-pm-hadassah-book-club-Dec
 \n\n7:30 pm - Hadassah Book Club
DTSTART;TZID=America/New_York:20221220T193000
DTEND;TZID=America/New_York:20221220T203000
END:VEVENT
END:VCALENDAR
